BEGIN:VCALENDAR
VERSION:2.0
PRODID:-//Linden Realschule - ECPv6.15.17.1//NONSGML v1.0//EN
CALSCALE:GREGORIAN
METHOD:PUBLISH
X-ORIGINAL-URL:https://www.linden-realschule.de
X-WR-CALDESC:Veranstaltungen für Linden Realschule
REFRESH-INTERVAL;VALUE=DURATION:PT1H
X-Robots-Tag:noindex
X-PUBLISHED-TTL:PT1H
BEGIN:VTIMEZONE
TZID:Europe/Berlin
BEGIN:DAYLIGHT
TZOFFSETFROM:+0100
TZOFFSETTO:+0200
TZNAME:CEST
DTSTART:20240331T010000
END:DAYLIGHT
BEGIN:STANDARD
TZOFFSETFROM:+0200
TZOFFSETTO:+0100
TZNAME:CET
DTSTART:20241027T010000
END:STANDARD
BEGIN:DAYLIGHT
TZOFFSETFROM:+0100
TZOFFSETTO:+0200
TZNAME:CEST
DTSTART:20250330T010000
END:DAYLIGHT
BEGIN:STANDARD
TZOFFSETFROM:+0200
TZOFFSETTO:+0100
TZNAME:CET
DTSTART:20251026T010000
END:STANDARD
BEGIN:DAYLIGHT
TZOFFSETFROM:+0100
TZOFFSETTO:+0200
TZNAME:CEST
DTSTART:20260329T010000
END:DAYLIGHT
BEGIN:STANDARD
TZOFFSETFROM:+0200
TZOFFSETTO:+0100
TZNAME:CET
DTSTART:20261025T010000
END:STANDARD
BEGIN:DAYLIGHT
TZOFFSETFROM:+0100
TZOFFSETTO:+0200
TZNAME:CEST
DTSTART:20270328T010000
END:DAYLIGHT
BEGIN:STANDARD
TZOFFSETFROM:+0200
TZOFFSETTO:+0100
TZNAME:CET
DTSTART:20271031T010000
END:STANDARD
END:VTIMEZONE
BEGIN:VEVENT
DTSTART;TZID=Europe/Berlin:20260412T080000
DTEND;TZID=Europe/Berlin:20260412T170000
DTSTAMP:20260421T174544
CREATED:20260315T135143Z
LAST-MODIFIED:20260315T135145Z
UID:9265-1775980800-1776013200@www.linden-realschule.de
SUMMARY:Abschlussprüfung Mathematik 10/9G
DESCRIPTION:
URL:https://www.linden-realschule.de/schulevent/abschlusspruefung-mathematik-10-9g/
CATEGORIES:Prüfungen
END:VEVENT
BEGIN:VEVENT
DTSTART;TZID=Europe/Berlin:20260330T080000
DTEND;TZID=Europe/Berlin:20260410T170000
DTSTAMP:20260421T174544
CREATED:20260315T134711Z
LAST-MODIFIED:20260315T134846Z
UID:9257-1774857600-1775840400@www.linden-realschule.de
SUMMARY:Osterferien 2026
DESCRIPTION:
URL:https://www.linden-realschule.de/schulevent/osterferien-2026/
CATEGORIES:Ferien
END:VEVENT
BEGIN:VEVENT
DTSTART;TZID=Europe/Berlin:20260315T160000
DTEND;TZID=Europe/Berlin:20260315T200000
DTSTAMP:20260421T174544
CREATED:20260315T145517Z
LAST-MODIFIED:20260315T145519Z
UID:9287-1773590400-1773604800@www.linden-realschule.de
SUMMARY:Abschlussfeier Klassen 10/9G
DESCRIPTION:
URL:https://www.linden-realschule.de/schulevent/abschlussfeier-klassen-10-9g/
CATEGORIES:An der Schule
END:VEVENT
BEGIN:VEVENT
DTSTART;TZID=Europe/Berlin:20260315T090000
DTEND;TZID=Europe/Berlin:20260315T100000
DTSTAMP:20260421T174544
CREATED:20260315T145721Z
LAST-MODIFIED:20260315T145723Z
UID:9291-1773565200-1773568800@www.linden-realschule.de
SUMMARY:Zeugnisausgabe/Lob- und Preisfeier
DESCRIPTION:
URL:https://www.linden-realschule.de/schulevent/zeugnisausgabe-lob-und-preisfeier/
CATEGORIES:An der Schule
END:VEVENT
BEGIN:VEVENT
DTSTART;TZID=Europe/Berlin:20260315T080000
DTEND;TZID=Europe/Berlin:20260315T110000
DTSTAMP:20260421T174544
CREATED:20260315T145310Z
LAST-MODIFIED:20260315T145312Z
UID:9283-1773561600-1773572400@www.linden-realschule.de
SUMMARY:Anmeldung zur mündlichen Prüfung
DESCRIPTION:Anmeldung zur mündlichen Prüfung (nur Mathematik oder Deutsch möglich)\, bis spätestens 11.00 Uhr
URL:https://www.linden-realschule.de/schulevent/anmeldung-zur-muendlichen-pruefung/
CATEGORIES:Prüfungen
END:VEVENT
BEGIN:VEVENT
DTSTART;TZID=Europe/Berlin:20260309T000000
DTEND;TZID=Europe/Berlin:20260312T235959
DTSTAMP:20260421T174544
CREATED:20260116T100030Z
LAST-MODIFIED:20260121T134824Z
UID:9127-1773014400-1773359999@www.linden-realschule.de
SUMMARY:Anmeldung Klasse 5
DESCRIPTION:Die Anmeldung erfolgt über ein Anmeldeformular. \nDer Anmeldezeitraum für Klasse 5 ist in diesem Jahr von 09.03.2026 bis 12.03.2026 im Sekretariat.  \nAnmeldezeiten: \nMontag\, 09.03.2026 bis Donnerstag\, 12.03.20269:00 Uhr bis 12:00 Uhr und 14:00 bis 16:00 Uhr \nLiebe Eltern\, bitte bringen Sie folgende Dokumente zur Anmeldung Ihres Kindes mit: \n\nGeburtsurkunde\, Abstammungsurkunde oder Ausweis des Kindes\nNachweis über die Masernimpfungen\nGrundschulbestätigung\nGrundschulempfehlung\nBonuscard des Kindes (falls vorhanden)\nNachweis über das alleinige Sorgerecht (für Alleinerziehende)
URL:https://www.linden-realschule.de/schulevent/anmeldung-klasse-5-3/
CATEGORIES:An der Schule
END:VEVENT
BEGIN:VEVENT
DTSTART;TZID=Europe/Berlin:20260225T153000
DTEND;TZID=Europe/Berlin:20260225T180000
DTSTAMP:20260421T174544
CREATED:20260116T095159Z
LAST-MODIFIED:20260315T133231Z
UID:9116-1772033400-1772042400@www.linden-realschule.de
SUMMARY:Tag der Offenen Tür 2026
DESCRIPTION:
URL:https://www.linden-realschule.de/schulevent/tag-der-offenen-tuer-2026/
CATEGORIES:An der Schule
END:VEVENT
BEGIN:VEVENT
DTSTART;TZID=Europe/Berlin:20260212T190000
DTEND;TZID=Europe/Berlin:20260212T203000
DTSTAMP:20260421T174544
CREATED:20260116T095758Z
LAST-MODIFIED:20260116T095758Z
UID:9125-1770922800-1770928200@www.linden-realschule.de
SUMMARY:Klassenpflegschaftssitzung 8-10
DESCRIPTION:
URL:https://www.linden-realschule.de/schulevent/klassenpflegschaftssitzung-8-10/
CATEGORIES:An der Schule
END:VEVENT
BEGIN:VEVENT
DTSTART;TZID=Europe/Berlin:20260210T190000
DTEND;TZID=Europe/Berlin:20260210T203000
DTSTAMP:20260421T174544
CREATED:20260116T095515Z
LAST-MODIFIED:20260116T095515Z
UID:9120-1770750000-1770755400@www.linden-realschule.de
SUMMARY:Klassenpflegschaftssitzung 5-7
DESCRIPTION:Beginn: 19.00 Uhr \nInfoabend zu den Wahlpflichtfächern ab 18:00 Uhr in Klassenstufe 5 (Mensa)
URL:https://www.linden-realschule.de/schulevent/klassenpflegschaftssitzung-5-7/
CATEGORIES:An der Schule
END:VEVENT
BEGIN:VEVENT
DTSTART;TZID=Europe/Berlin:20260210T180000
DTEND;TZID=Europe/Berlin:20260210T190000
DTSTAMP:20260421T174544
CREATED:20260116T095700Z
LAST-MODIFIED:20260116T101945Z
UID:9122-1770746400-1770750000@www.linden-realschule.de
SUMMARY:Infoabend zu den Wahlpflichtfächern
DESCRIPTION:Infoabend zu den Wahlpflichtfächern in Klassenstufe 5 \nWann: 18:00 Uhr \nWo: Mensa
URL:https://www.linden-realschule.de/schulevent/infoabend-zu-den-wahlpflichtfaechern/
LOCATION:Mensa
CATEGORIES:An der Schule
END:VEVENT
BEGIN:VEVENT
DTSTART;VALUE=DATE:20260206
DTEND;VALUE=DATE:20260207
DTSTAMP:20260421T174544
CREATED:20260116T095342Z
LAST-MODIFIED:20260116T095342Z
UID:9118-1770336000-1770422399@www.linden-realschule.de
SUMMARY:Ausgabe der Halbjahresinformationen
DESCRIPTION:
URL:https://www.linden-realschule.de/schulevent/ausgabe-der-halbjahresinformationen/
CATEGORIES:An der Schule
END:VEVENT
BEGIN:VEVENT
DTSTART;VALUE=DATE:20260206
DTEND;VALUE=DATE:20260207
DTSTAMP:20260421T174544
CREATED:20251211T173532Z
LAST-MODIFIED:20251211T173532Z
UID:9100-1770336000-1770422399@www.linden-realschule.de
SUMMARY:Halbjahresinformationen 2025/2026
DESCRIPTION:
URL:https://www.linden-realschule.de/schulevent/halbjahresinformationen-2025-2026/
LOCATION:Linden-Realschule Stuttgart\, Lindenschulstr. 20\, Stuttgart\, 70327\, Deutschland
CATEGORIES:An der Schule
END:VEVENT
BEGIN:VEVENT
DTSTART;VALUE=DATE:20260126
DTEND;VALUE=DATE:20260131
DTSTAMP:20260421T174544
CREATED:20251211T173810Z
LAST-MODIFIED:20251211T173810Z
UID:9104-1769385600-1769817599@www.linden-realschule.de
SUMMARY:Handwerkspraktikum 8a und 8d
DESCRIPTION:
URL:https://www.linden-realschule.de/schulevent/handwerkspraktikum-8a-und-8d/
CATEGORIES:Praktikum
END:VEVENT
BEGIN:VEVENT
DTSTART;VALUE=DATE:20260126
DTEND;VALUE=DATE:20260131
DTSTAMP:20260421T174544
CREATED:20251211T173715Z
LAST-MODIFIED:20251211T173715Z
UID:9102-1769385600-1769817599@www.linden-realschule.de
SUMMARY:Praktikumswoche 9d
DESCRIPTION:
URL:https://www.linden-realschule.de/schulevent/praktikumswoche-9d/
CATEGORIES:Praktikum
END:VEVENT
BEGIN:VEVENT
DTSTART;VALUE=DATE:20251222
DTEND;VALUE=DATE:20260107
DTSTAMP:20260421T174544
CREATED:20251211T173324Z
LAST-MODIFIED:20260315T133246Z
UID:9098-1766361600-1767743999@www.linden-realschule.de
SUMMARY:Weihnachtsferien 2025
DESCRIPTION:
URL:https://www.linden-realschule.de/schulevent/weihnachtsferien-2025/
LOCATION:Linden-Realschule Stuttgart\, Lindenschulstr. 20\, Stuttgart\, 70327\, Deutschland
CATEGORIES:Ferien
END:VEVENT
BEGIN:VEVENT
DTSTART;TZID=Europe/Berlin:20251125T183000
DTEND;TZID=Europe/Berlin:20251125T203000
DTSTAMP:20260421T174544
CREATED:20251111T090027Z
LAST-MODIFIED:20251111T090027Z
UID:9069-1764095400-1764102600@www.linden-realschule.de
SUMMARY:Einladung zum Elterncafé
DESCRIPTION:Die Linden-Realschule lädt herzlich zum nächsten Elterncafé ein! \nAm Dienstag\, den 25. November 2025\, öffnen wir wieder unsere Türen für alle Eltern\, die sich in gemütlicher Atmosphäre austauschen möchten. Bei Kaffee und Gebäck besteht die Gelegenheit\, miteinander ins Gespräch zu kommen und aktuelle Themen rund um Schule und Familie zu besprechen. \n📅 Datum: Dienstag\, 25. November 2025\n🕒 Uhrzeit: 18:30\n📍 Ort: Linden-Realschule Raum 001 \nWir freuen uns auf einen offenen Austausch und viele interessante Gespräche!
URL:https://www.linden-realschule.de/schulevent/einladung-zum-elterncafe/
CATEGORIES:An der Schule
ATTACH;FMTTYPE=image/png:https://www.linden-realschule.de/wp-content/uploads/2025/11/Einladung-Elterncafe.png
END:VEVENT
BEGIN:VEVENT
DTSTART;TZID=Europe/Berlin:20250725T160000
DTEND;TZID=Europe/Berlin:20250725T190000
DTSTAMP:20260421T174544
CREATED:20250722T112831Z
LAST-MODIFIED:20250725T055147Z
UID:9050-1753459200-1753470000@www.linden-realschule.de
SUMMARY:25.7.25: Sommerfest der Linden-Realschule (nach Drinnen verlegt)
DESCRIPTION:Einladung zum Sommerfest – Linden-Realschule\, 25. Juli 2025 \nAm Freitag vor den Ferien wird gefeiert: Beim Sommerfest der Linden-Realschule gibt’s von 16 bis 19 Uhr leckeres Essen\, kühle Getränke\, Spiele zum Mitmachen und eine Bühnenshow. \nEingeladen sind alle\, die Lust haben\, dabei zu sein – egal ob aus der Schule\, der Nachbarschaft oder einfach so. \nWichtig:\nWegen der Wetterlage findet das Fest nicht draußen\,\nsondern in der Schule statt.\nVorbeikommen\, vorbeischauen\, mitfeiern – wir freuen uns! \n 
URL:https://www.linden-realschule.de/schulevent/25-7-25-sommerfest-der-linden-realschule/
CATEGORIES:An der Schule
ATTACH;FMTTYPE=image/png:https://www.linden-realschule.de/wp-content/uploads/2025/07/Weiss-Blau-Bunt-Illustrativ-Floral-Veranstaltung-Sommerfest-Flyer.png
END:VEVENT
BEGIN:VEVENT
DTSTART;VALUE=DATE:20250626
DTEND;VALUE=DATE:20250627
DTSTAMP:20260421T174544
CREATED:20250528T082620Z
LAST-MODIFIED:20250528T082620Z
UID:9032-1750896000-1750982399@www.linden-realschule.de
SUMMARY:Nachtermin Wahlpflichtfach
DESCRIPTION:
URL:https://www.linden-realschule.de/schulevent/nachtermin-wahlpflichtfach/
CATEGORIES:Prüfungen
END:VEVENT
BEGIN:VEVENT
DTSTART;VALUE=DATE:20250625
DTEND;VALUE=DATE:20250626
DTSTAMP:20260421T174544
CREATED:20250528T082511Z
LAST-MODIFIED:20250528T082511Z
UID:9030-1750809600-1750895999@www.linden-realschule.de
SUMMARY:Nachtermin Mathe
DESCRIPTION:
URL:https://www.linden-realschule.de/schulevent/nachtermin-mathe/
CATEGORIES:Prüfungen
END:VEVENT
BEGIN:VEVENT
DTSTART;VALUE=DATE:20250624
DTEND;VALUE=DATE:20250628
DTSTAMP:20260421T174544
CREATED:20250528T081836Z
LAST-MODIFIED:20250528T081836Z
UID:9023-1750723200-1751068799@www.linden-realschule.de
SUMMARY:Schullandheim Klasse 5
DESCRIPTION:
URL:https://www.linden-realschule.de/schulevent/schullandheim-klasse-5-2/
CATEGORIES:Klassenfahrten
END:VEVENT
BEGIN:VEVENT
DTSTART;VALUE=DATE:20250624
DTEND;VALUE=DATE:20250625
DTSTAMP:20260421T174544
CREATED:20250528T082444Z
LAST-MODIFIED:20250528T082444Z
UID:9028-1750723200-1750809599@www.linden-realschule.de
SUMMARY:Nachtermin Englisch
DESCRIPTION:
URL:https://www.linden-realschule.de/schulevent/nachtermin-englisch/
CATEGORIES:Prüfungen
END:VEVENT
BEGIN:VEVENT
DTSTART;VALUE=DATE:20250530
DTEND;VALUE=DATE:20250531
DTSTAMP:20260421T174544
CREATED:20250528T082012Z
LAST-MODIFIED:20250528T082033Z
UID:9025-1748563200-1748649599@www.linden-realschule.de
SUMMARY:Beweglicher Ferientag
DESCRIPTION:
URL:https://www.linden-realschule.de/schulevent/30-5-beweglicher-ferientag/
CATEGORIES:Ferien
END:VEVENT
BEGIN:VEVENT
DTSTART;VALUE=DATE:20250528
DTEND;VALUE=DATE:20250529
DTSTAMP:20260421T174544
CREATED:20241203T175356Z
LAST-MODIFIED:20241203T175356Z
UID:8476-1748390400-1748476799@www.linden-realschule.de
SUMMARY:Abschlussprüfung Wahlpflichtfach RSAP
DESCRIPTION:
URL:https://www.linden-realschule.de/schulevent/abschlusspruefung-wahlpflichtfach-rsap/
CATEGORIES:Prüfungen
END:VEVENT
BEGIN:VEVENT
DTSTART;VALUE=DATE:20250526
DTEND;VALUE=DATE:20250527
DTSTAMP:20260421T174544
CREATED:20241203T175325Z
LAST-MODIFIED:20241203T175325Z
UID:8474-1748217600-1748303999@www.linden-realschule.de
SUMMARY:Abschlussprüfung Mathematik
DESCRIPTION:
URL:https://www.linden-realschule.de/schulevent/abschlusspruefung-mathematik/
CATEGORIES:Prüfungen
END:VEVENT
BEGIN:VEVENT
DTSTART;VALUE=DATE:20250522
DTEND;VALUE=DATE:20250523
DTSTAMP:20260421T174544
CREATED:20241203T175256Z
LAST-MODIFIED:20241203T175256Z
UID:8472-1747872000-1747958399@www.linden-realschule.de
SUMMARY:Abschlussprüfung Englisch
DESCRIPTION:
URL:https://www.linden-realschule.de/schulevent/abschlusspruefung-englisch/
CATEGORIES:Prüfungen
END:VEVENT
BEGIN:VEVENT
DTSTART;VALUE=DATE:20250520
DTEND;VALUE=DATE:20250521
DTSTAMP:20260421T174544
CREATED:20241203T175217Z
LAST-MODIFIED:20241203T175217Z
UID:8470-1747699200-1747785599@www.linden-realschule.de
SUMMARY:Abschlussprüfung Deutsch
DESCRIPTION:
URL:https://www.linden-realschule.de/schulevent/abschlusspruefung-deutsch/
CATEGORIES:Prüfungen
END:VEVENT
BEGIN:VEVENT
DTSTART;VALUE=DATE:20250506
DTEND;VALUE=DATE:20250509
DTSTAMP:20260421T174544
CREATED:20241203T175034Z
LAST-MODIFIED:20241203T175034Z
UID:8466-1746489600-1746748799@www.linden-realschule.de
SUMMARY:Sozialpraktikum Klasse 7
DESCRIPTION:
URL:https://www.linden-realschule.de/schulevent/sozialpraktikum-klasse-7-2/
LOCATION:Linden-Realschule Stuttgart\, Lindenschulstr. 20\, Stuttgart\, 70327\, Deutschland
CATEGORIES:Praktikum
END:VEVENT
BEGIN:VEVENT
DTSTART;VALUE=DATE:20250505
DTEND;VALUE=DATE:20250510
DTSTAMP:20260421T174544
CREATED:20241203T175124Z
LAST-MODIFIED:20241203T175124Z
UID:8468-1746403200-1746835199@www.linden-realschule.de
SUMMARY:Fensterwoche 2
DESCRIPTION:gesonderte Stundenpläne
URL:https://www.linden-realschule.de/schulevent/fensterwoche-2-4/
LOCATION:Linden-Realschule Stuttgart\, Lindenschulstr. 20\, Stuttgart\, 70327\, Deutschland
CATEGORIES:An der Schule
END:VEVENT
BEGIN:VEVENT
DTSTART;VALUE=DATE:20250505
DTEND;VALUE=DATE:20250510
DTSTAMP:20260421T174544
CREATED:20241203T174954Z
LAST-MODIFIED:20241203T174954Z
UID:8464-1746403200-1746835199@www.linden-realschule.de
SUMMARY:Handwerkspraktikum Klasse 8M
DESCRIPTION:
URL:https://www.linden-realschule.de/schulevent/handwerkspraktikum-klasse-8m/
LOCATION:Linden-Realschule Stuttgart\, Lindenschulstr. 20\, Stuttgart\, 70327\, Deutschland
CATEGORIES:Praktikum
END:VEVENT
BEGIN:VEVENT
DTSTART;VALUE=DATE:20250502
DTEND;VALUE=DATE:20250503
DTSTAMP:20260421T174544
CREATED:20241203T174910Z
LAST-MODIFIED:20241203T174910Z
UID:8462-1746144000-1746230399@www.linden-realschule.de
SUMMARY:Beweglicher Ferientag
DESCRIPTION:
URL:https://www.linden-realschule.de/schulevent/beweglicher-ferientag/
CATEGORIES:Entfall,Ferien
END:VEVENT
END:VCALENDAR