BEGIN:VCALENDAR
VERSION:2.0
PRODID:-//Linden Realschule - ECPv6.15.17.1//NONSGML v1.0//EN
CALSCALE:GREGORIAN
METHOD:PUBLISH
X-WR-CALNAME:Linden Realschule
X-ORIGINAL-URL:https://www.linden-realschule.de
X-WR-CALDESC:Veranstaltungen für Linden Realschule
REFRESH-INTERVAL;VALUE=DURATION:PT1H
X-Robots-Tag:noindex
X-PUBLISHED-TTL:PT1H
BEGIN:VTIMEZONE
TZID:Europe/Berlin
BEGIN:DAYLIGHT
TZOFFSETFROM:+0100
TZOFFSETTO:+0200
TZNAME:CEST
DTSTART:20250330T010000
END:DAYLIGHT
BEGIN:STANDARD
TZOFFSETFROM:+0200
TZOFFSETTO:+0100
TZNAME:CET
DTSTART:20251026T010000
END:STANDARD
BEGIN:DAYLIGHT
TZOFFSETFROM:+0100
TZOFFSETTO:+0200
TZNAME:CEST
DTSTART:20260329T010000
END:DAYLIGHT
BEGIN:STANDARD
TZOFFSETFROM:+0200
TZOFFSETTO:+0100
TZNAME:CET
DTSTART:20261025T010000
END:STANDARD
BEGIN:DAYLIGHT
TZOFFSETFROM:+0100
TZOFFSETTO:+0200
TZNAME:CEST
DTSTART:20270328T010000
END:DAYLIGHT
BEGIN:STANDARD
TZOFFSETFROM:+0200
TZOFFSETTO:+0100
TZNAME:CET
DTSTART:20271031T010000
END:STANDARD
END:VTIMEZONE
BEGIN:VEVENT
DTSTART;VALUE=DATE:20260206
DTEND;VALUE=DATE:20260207
DTSTAMP:20260421T105650
CREATED:20251211T173532Z
LAST-MODIFIED:20251211T173532Z
UID:9100-1770336000-1770422399@www.linden-realschule.de
SUMMARY:Halbjahresinformationen 2025/2026
DESCRIPTION:
URL:https://www.linden-realschule.de/schulevent/halbjahresinformationen-2025-2026/
LOCATION:Linden-Realschule Stuttgart\, Lindenschulstr. 20\, Stuttgart\, 70327\, Deutschland
CATEGORIES:An der Schule
END:VEVENT
BEGIN:VEVENT
DTSTART;VALUE=DATE:20260206
DTEND;VALUE=DATE:20260207
DTSTAMP:20260421T105650
CREATED:20260116T095342Z
LAST-MODIFIED:20260116T095342Z
UID:9118-1770336000-1770422399@www.linden-realschule.de
SUMMARY:Ausgabe der Halbjahresinformationen
DESCRIPTION:
URL:https://www.linden-realschule.de/schulevent/ausgabe-der-halbjahresinformationen/
CATEGORIES:An der Schule
END:VEVENT
BEGIN:VEVENT
DTSTART;TZID=Europe/Berlin:20260210T180000
DTEND;TZID=Europe/Berlin:20260210T190000
DTSTAMP:20260421T105650
CREATED:20260116T095700Z
LAST-MODIFIED:20260116T101945Z
UID:9122-1770746400-1770750000@www.linden-realschule.de
SUMMARY:Infoabend zu den Wahlpflichtfächern
DESCRIPTION:Infoabend zu den Wahlpflichtfächern in Klassenstufe 5 \nWann: 18:00 Uhr \nWo: Mensa
URL:https://www.linden-realschule.de/schulevent/infoabend-zu-den-wahlpflichtfaechern/
LOCATION:Mensa
CATEGORIES:An der Schule
END:VEVENT
BEGIN:VEVENT
DTSTART;TZID=Europe/Berlin:20260210T190000
DTEND;TZID=Europe/Berlin:20260210T203000
DTSTAMP:20260421T105650
CREATED:20260116T095515Z
LAST-MODIFIED:20260116T095515Z
UID:9120-1770750000-1770755400@www.linden-realschule.de
SUMMARY:Klassenpflegschaftssitzung 5-7
DESCRIPTION:Beginn: 19.00 Uhr \nInfoabend zu den Wahlpflichtfächern ab 18:00 Uhr in Klassenstufe 5 (Mensa)
URL:https://www.linden-realschule.de/schulevent/klassenpflegschaftssitzung-5-7/
CATEGORIES:An der Schule
END:VEVENT
BEGIN:VEVENT
DTSTART;TZID=Europe/Berlin:20260212T190000
DTEND;TZID=Europe/Berlin:20260212T203000
DTSTAMP:20260421T105650
CREATED:20260116T095758Z
LAST-MODIFIED:20260116T095758Z
UID:9125-1770922800-1770928200@www.linden-realschule.de
SUMMARY:Klassenpflegschaftssitzung 8-10
DESCRIPTION:
URL:https://www.linden-realschule.de/schulevent/klassenpflegschaftssitzung-8-10/
CATEGORIES:An der Schule
END:VEVENT
BEGIN:VEVENT
DTSTART;TZID=Europe/Berlin:20260225T153000
DTEND;TZID=Europe/Berlin:20260225T180000
DTSTAMP:20260421T105650
CREATED:20260116T095159Z
LAST-MODIFIED:20260315T133231Z
UID:9116-1772033400-1772042400@www.linden-realschule.de
SUMMARY:Tag der Offenen Tür 2026
DESCRIPTION:
URL:https://www.linden-realschule.de/schulevent/tag-der-offenen-tuer-2026/
CATEGORIES:An der Schule
END:VEVENT
END:VCALENDAR